BEGIN:VCALENDAR
VERSION:2.0
PRODID:-//Intranet ACP - ECPv6.2.3.1//NONSGML v1.0//EN
CALSCALE:GREGORIAN
METHOD:PUBLISH
X-ORIGINAL-URL:https://intranet.acpr.org.br
X-WR-CALDESC:Eventos para Intranet ACP
REFRESH-INTERVAL;VALUE=DURATION:PT1H
X-Robots-Tag:noindex
X-PUBLISHED-TTL:PT1H
BEGIN:VTIMEZONE
TZID:America/Sao_Paulo
BEGIN:STANDARD
TZOFFSETFROM:-0300
TZOFFSETTO:-0300
TZNAME:-03
DTSTART:20210101T000000
END:STANDARD
END:VTIMEZONE
BEGIN:VEVENT
DTSTART;VALUE=DATE:20220118
DTEND;VALUE=DATE:20220119
DTSTAMP:20260422T103145
CREATED:20211215T220741Z
LAST-MODIFIED:20220105T212558Z
UID:3140-1642464000-1642550399@intranet.acpr.org.br
SUMMARY:ACP
DESCRIPTION:Apenas um evento de teste
URL:https://intranet.acpr.org.br/event/teste/
LOCATION:ACP\, Rua Deputado João Ferreira Neves\, 159\, Curitiba\, Paraná\, 80820380\, Brasil
CATEGORIES:Eventos ACP
END:VEVENT
BEGIN:VEVENT
DTSTART;VALUE=DATE:20211230
DTEND;VALUE=DATE:20211231
DTSTAMP:20260422T103145
CREATED:20211226T213705Z
LAST-MODIFIED:20211227T111055Z
UID:3726-1640822400-1640908799@intranet.acpr.org.br
SUMMARY:Grêmio
DESCRIPTION:Apenas um evento de teste
URL:https://intranet.acpr.org.br/event/gremio/
LOCATION:ACP\, Rua Deputado João Ferreira Neves\, 159\, Curitiba\, Paraná\, 80820380\, Brasil
CATEGORIES:Eventos Grêmio
END:VEVENT
END:VCALENDAR